BEGIN:VCALENDAR
VERSION:2.0
PRODID:-//Weidwerk - ECPv6.15.20//NONSGML v1.0//EN
CALSCALE:GREGORIAN
METHOD:PUBLISH
X-ORIGINAL-URL:https://weidwerk.at
X-WR-CALDESC:Veranstaltungen für Weidwerk
REFRESH-INTERVAL;VALUE=DURATION:PT1H
X-Robots-Tag:noindex
X-PUBLISHED-TTL:PT1H
BEGIN:VTIMEZONE
TZID:UTC
BEGIN:STANDARD
TZOFFSETFROM:+0000
TZOFFSETTO:+0000
TZNAME:UTC
DTSTART:20240101T000000
END:STANDARD
END:VTIMEZONE
BEGIN:VEVENT
DTSTART;TZID=UTC:20251025T100000
DTEND;TZID=UTC:20251025T170000
DTSTAMP:20260425T022151
CREATED:20250402T052712Z
LAST-MODIFIED:20250408T174942Z
UID:6386-1761386400-1761411600@weidwerk.at
SUMMARY:WEIDWERK Wildgrillkurs "Von der Decke auf den Teller"
DESCRIPTION:„Asador“ Jürgen Kernegger zeigt vor\, wie man ein Stück Wild (Rehwild) aus der Decke schlägt\, zerwirkt und küchenfertig verarbeitet. Anschließend wird gegrillt! Unter fachmännischer Anleitung bereiten Sie köstliche Wildspezialitäten über offenem Feuer zu. \nKursbeitrag: € 250\,– \nmaximale Teilnehmeranzahl: 25
URL:https://weidwerk.at/event/weidwerk-wildgrillkurs-von-der-decke-auf-den-teller/
LOCATION:Weber Original Store und Weber Grill Academy Wien Süd\, Wiener Straße 131/133\, Wien\, Wien\, 2345\, Austria
ATTACH;FMTTYPE=image/jpeg:https://weidwerk.at/wp-content/uploads/2025/04/Grasberger-2981-scaled.jpg
ORGANIZER;CN="WEIDWERK":MAILTO:redaktion@weidwerk.at
END:VEVENT
BEGIN:VEVENT
DTSTART;TZID=UTC:20251003T090000
DTEND;TZID=UTC:20251005T170000
DTSTAMP:20260425T022151
CREATED:20250409T070649Z
LAST-MODIFIED:20250409T070649Z
UID:6700-1759482000-1759683600@weidwerk.at
SUMMARY:Jagd & Angeln
DESCRIPTION:
URL:https://weidwerk.at/event/jagd-angeln/
LOCATION:agra Messepark Leipzig\, Friedrich-Ebert-Straße 26\, Markkleeberg\, Sachsen\, 04416\, Germany
ORGANIZER;CN="agra Veranstaltungs GmbH":MAILTO:post@agra-messe.de
END:VEVENT
BEGIN:VEVENT
DTSTART;TZID=UTC:20250927T100000
DTEND;TZID=UTC:20250927T170000
DTSTAMP:20260425T022151
CREATED:20250408T174252Z
LAST-MODIFIED:20250408T174252Z
UID:6684-1758967200-1758992400@weidwerk.at
SUMMARY:Tag der offenen Tür der Veterinärmedizinischen Universität Wien
DESCRIPTION:
URL:https://weidwerk.at/event/tag-der-offenen-tuer-der-veterinaermedizinischen-universitaet-wien/
LOCATION:Veterinärmedizinische Universität Wien (Vetmeduni)\, Veterinärplatz 1\, Wien\, Wien\, 1210\, Austria
ORGANIZER;CN="Veterin%C3%A4rmedizinische Universit%C3%A4t Wien (Vetmeduni)":MAILTO:communication@vetmeduni.ac.at
END:VEVENT
BEGIN:VEVENT
DTSTART;TZID=UTC:20250912T100000
DTEND;TZID=UTC:20250914T180000
DTSTAMP:20260425T022151
CREATED:20250409T064804Z
LAST-MODIFIED:20250409T064804Z
UID:6695-1757671200-1757872800@weidwerk.at
SUMMARY:Wild & Fang
DESCRIPTION:
URL:https://weidwerk.at/event/wild-fang/
LOCATION:Deutsche Messe Hannover\, Messegelände\, Hannover\, Niedersachsen\, 30521\, Germany
ORGANIZER;CN="Deutsche Messe AG":MAILTO:info@messe.de
END:VEVENT
BEGIN:VEVENT
DTSTART;TZID=UTC:20250905T100000
DTEND;TZID=UTC:20250905T170000
DTSTAMP:20260425T022151
CREATED:20250402T040908Z
LAST-MODIFIED:20250424T054823Z
UID:6370-1757066400-1757091600@weidwerk.at
SUMMARY:Feurige Wildküche
DESCRIPTION:Bei diesem Wild-Grillkurs werden gemeinsam mit Foodbloggerin\, Jägerin und Falknerin Renate Zierler schmackhafte Wildgerichte gegrillt\, die zwar leicht zuzubereiten\, aber dennoch nicht alltäglich sind. Es werden sechs Vorspeisen und zwei Hauptspeisen gegrillt\, zudem eine Nachspeise. Im Kursbeitrag sind fünf Getränke inkludiert\, die sich auf offene Weine (Rot/Weiß)\, Bier\, Kaffee und antialkoholische Getränke beschränken. Alle darüber hinausgehenden Konsumationen müssen separat bezahlt werden. Selbstverständlich werden alle von den Kursteilnehmern zubereiteten Gänge gemeinsam verspeist. Die Kursteilnehmer werden in Gruppen aufgeteilt\, und jede Gruppe hat die Möglichkeit\, selbst Hand anzulegen und zumindest ein Wildrezept des Menüs gemeinsam zuzubereiten. \nSämtliche Wildgerichte werden auf einem OFYR Kochgerät mit der Kraft des Holzfeuers im Freien gegrillt. Alle Teilnehmer (max. 25 Pax) haben die Möglichkeit\, beim Kauf eines exklusiv zusammengestellten WEIDWERK-OFYR-Sets einen Naturalgutschein in der Höhe des Kurs­betrages (€ 250\,-) einzulösen. Die Vorlage der WEIDWERK-Kursbestätigung ist dabei Voraussetzung. Keine Barablöse möglich. \nVorspeisen: \n\nTan Tan Salat mit Zitronen-Mayonnaise\nTatar vom Reh auf Kartoffelrösti \, Senfkaviar und Chil-Mayonnaise\nRehkebap mit Ajvar und Salat\nVitello tonnato vom Reh oder Wildschwein mit rote Rübenbaguette\nWrap vom Wildschwein mit Apfelchutney\nBratwurst Lolly\n\nHauptgang: \n\nHirschrücken im Kräutermantel mit cremigen Trüffelpolenta\nSchwarzwild vietnamesisch\n\nDessert: \n\nApfel Blinis mit Apfelragout\, Vanille Soße und Eis\n\nBitte um Verständnis\, dass es zu kurzfristigen Änderungen bzw. Anpassungen des Menüs kommen kann\, sollte dies notwendig sein.
URL:https://weidwerk.at/event/feurige-wildkueche/
LOCATION:Restaurant „Thomas im Johanneshof“\, Im Weingarten 1\, Tattendorf\, Niederösterreich\, 2523
ATTACH;FMTTYPE=image/jpeg:https://weidwerk.at/wp-content/uploads/2025/04/Grasberger_Grillkurs_Michi-Unger-2024-153-scaled.jpg
END:VEVENT
BEGIN:VEVENT
DTSTART;VALUE=DATE:20250614
DTEND;VALUE=DATE:20250616
DTSTAMP:20260425T022151
CREATED:20250402T043019Z
LAST-MODIFIED:20250408T175135Z
UID:6383-1749859200-1750031999@weidwerk.at
SUMMARY:NÖ Landesmeisterschaften im Jagdlichen Schießen
DESCRIPTION:Einzel- und Mannschaftsbewerbe in der Kombination Jagdbüchse und Kompakt-Bewerb\n \nWO: Schießplatz Leobersdorf \nWANN: Samstag\, 14. und Sonntag\, 15. Juni 2025 \nSTARTLISTE\nDer Startplatz ist nur dann garantiert\, wenn sich der Schütze spätestens 30 Minuten vor der ausgeschriebenen Startzeit durch Vorlage der NÖ Jagdkarte im Organisationsbüro anmeldet. Nennungen am Bewerbstag sind nicht mehr möglich. \nWERTUNG \nDie Ergebnisse der Teilnehmer am Einzel- sowie am Mannschaftsbewerb werden gemeinsam gewertet.
URL:https://weidwerk.at/event/noe-landesmeisterschaften-im-jagdlichen-schiessen/
LOCATION:Shooting Park Leobersdorf\, Am Lindenberg 1\, Leobersdorf\, Niederösterreich\, 2552\, Austria
ORGANIZER;CN="N%C3%96 Jagdverband":MAILTO:jagd@noejagdverband.at
END:VEVENT
BEGIN:VEVENT
DTSTART;TZID=UTC:20250529T090000
DTEND;TZID=UTC:20250529T160000
DTSTAMP:20260425T022151
CREATED:20250327T182116Z
LAST-MODIFIED:20250408T175259Z
UID:5285-1748509200-1748534400@weidwerk.at
SUMMARY:Charity Shooting
DESCRIPTION:Am 29. Mai 2025 findet im Shooting Park Leobersdorf das Charity Shooting zugunsten der Österreichischen Wildtierstiftung statt. \nEin spannender Wettkampf auf Wurfscheiben mit unterschiedlichen Schwierigkeitsgraden bietet die Gelegenheit\, den Schutz und Erhalt von Wildtierlebensräumen aktiv zu unterstützen. Neben dem sportlichen Aspekt stehen der gute Zweck und das gemeinsame Erlebnis im Mittelpunkt. \nEine Tombola mit attraktiven Jagdreisen und Sachpreisen\, eine Versteigerung sowie eine Siegerehrung mit Wild-Grill-Event und feinen Weinen runden das Event ab. \n\nDatum: 29. Mai 2025\nOrt: Shooting Park Leobersdorf\nUhrzeit: 09:00 – 16:00 Uhr\nStartgeld: 350 € (inkl. Speisen & Getränke)\nAnmeldung bis 23. Mai 2025 unter charity@shootingpark.at\n\nWeitere Informationen zur Österreichischen Wildtierstiftung sind unter www.wildtierstiftung.at verfügbar. \nEin besonderes Event für den guten Zweck – der Shooting Park Leobersdorf freut sich auf zahlreiche Teilnehmerinnen und Teilnehmer.
URL:https://weidwerk.at/event/charity-shooting/
LOCATION:Shooting Park Leobersdorf\, Am Lindenberg 1\, Leobersdorf\, Niederösterreich\, 2552\, Austria
ORGANIZER;CN="%C3%96sterreichische Wildtierstiftung":MAILTO:office@wildtierstiftung.at
END:VEVENT
BEGIN:VEVENT
DTSTART;TZID=UTC:20250524T090000
DTEND;TZID=UTC:20250524T180000
DTSTAMP:20260425T022151
CREATED:20250402T041659Z
LAST-MODIFIED:20250408T180744Z
UID:6376-1748077200-1748109600@weidwerk.at
SUMMARY:54. NÖ Jagdhornbläser-Wettbewerb & Jagdhornbläser-Challenge
DESCRIPTION:In Niederösterreich sowie über die Landesgrenzen hinaus finden jedes Jahr ein Reihe von Bläserwettbewerben statt. Diese Wettbewerbe haben dazu beigetragen\, dass das musikalische Niveau  ständig gestiegen ist.
URL:https://weidwerk.at/event/54-noe-jagdhornblaeser-wettbewerb-jagdhornblaeser-challenge/
LOCATION:St. Aegyd am Neuwalde\, Kirchenplatz\, St. Aegyd am Neuwalde\, Niederösterreich\, 3193\, Austria
ORGANIZER;CN="N%C3%96 Jagdverband":MAILTO:jagd@noejagdverband.at
END:VEVENT
BEGIN:VEVENT
DTSTART;TZID=UTC:20250522T090000
DTEND;TZID=UTC:20250525T180000
DTSTAMP:20260425T022151
CREATED:20250422T062243Z
LAST-MODIFIED:20250422T062243Z
UID:6721-1747904400-1748196000@weidwerk.at
SUMMARY:Wieselburger Messe
DESCRIPTION:
URL:https://weidwerk.at/event/wieselburger-messe/
LOCATION:Messe Wieselburg\, Volksfestplatz 3\, Wieselburg\, Niederösterreich\, 3250\, Austria
ORGANIZER;CN="Wieselburger Messe":MAILTO:land-forst@messewieselburg.at
END:VEVENT
BEGIN:VEVENT
DTSTART;TZID=UTC:20250425T090000
DTEND;TZID=UTC:20250427T170000
DTSTAMP:20260425T022151
CREATED:20250409T062941Z
LAST-MODIFIED:20250409T062941Z
UID:6690-1745571600-1745773200@weidwerk.at
SUMMARY:Apropos Jagd
DESCRIPTION:
URL:https://weidwerk.at/event/apropos-jagd/
LOCATION:Arena Nova Wiener Neustadt\, Rudolf-Diesel-Straße 30\, Wiener Neustadt\, Niederösterreich\, 2700\, Austria
ORGANIZER;CN="Mario Skomar":MAILTO:skomar@arenanova.com
END:VEVENT
END:VCALENDAR